BEGIN:VCALENDAR
VERSION:2.0
PRODID:-//Poodle and Pooch Rescue of Florida - ECPv6.15.17.1//NONSGML v1.0//EN
CALSCALE:GREGORIAN
METHOD:PUBLISH
X-WR-CALNAME:Poodle and Pooch Rescue of Florida
X-ORIGINAL-URL:https://poodleandpoochrescue.org
X-WR-CALDESC:Events for Poodle and Pooch Rescue of Florida
REFRESH-INTERVAL;VALUE=DURATION:PT1H
X-Robots-Tag:noindex
X-PUBLISHED-TTL:PT1H
BEGIN:VTIMEZONE
TZID:America/New_York
BEGIN:DAYLIGHT
TZOFFSETFROM:-0500
TZOFFSETTO:-0400
TZNAME:EDT
DTSTART:20190310T070000
END:DAYLIGHT
BEGIN:STANDARD
TZOFFSETFROM:-0400
TZOFFSETTO:-0500
TZNAME:EST
DTSTART:20191103T060000
END:STANDARD
BEGIN:DAYLIGHT
TZOFFSETFROM:-0500
TZOFFSETTO:-0400
TZNAME:EDT
DTSTART:20200308T070000
END:DAYLIGHT
BEGIN:STANDARD
TZOFFSETFROM:-0400
TZOFFSETTO:-0500
TZNAME:EST
DTSTART:20201101T060000
END:STANDARD
BEGIN:DAYLIGHT
TZOFFSETFROM:-0500
TZOFFSETTO:-0400
TZNAME:EDT
DTSTART:20210314T070000
END:DAYLIGHT
BEGIN:STANDARD
TZOFFSETFROM:-0400
TZOFFSETTO:-0500
TZNAME:EST
DTSTART:20211107T060000
END:STANDARD
BEGIN:DAYLIGHT
TZOFFSETFROM:-0500
TZOFFSETTO:-0400
TZNAME:EDT
DTSTART:20220313T070000
END:DAYLIGHT
BEGIN:STANDARD
TZOFFSETFROM:-0400
TZOFFSETTO:-0500
TZNAME:EST
DTSTART:20221106T060000
END:STANDARD
BEGIN:DAYLIGHT
TZOFFSETFROM:-0500
TZOFFSETTO:-0400
TZNAME:EDT
DTSTART:20230312T070000
END:DAYLIGHT
BEGIN:STANDARD
TZOFFSETFROM:-0400
TZOFFSETTO:-0500
TZNAME:EST
DTSTART:20231105T060000
END:STANDARD
BEGIN:DAYLIGHT
TZOFFSETFROM:-0500
TZOFFSETTO:-0400
TZNAME:EDT
DTSTART:20240310T070000
END:DAYLIGHT
BEGIN:STANDARD
TZOFFSETFROM:-0400
TZOFFSETTO:-0500
TZNAME:EST
DTSTART:20241103T060000
END:STANDARD
BEGIN:DAYLIGHT
TZOFFSETFROM:-0500
TZOFFSETTO:-0400
TZNAME:EDT
DTSTART:20250309T070000
END:DAYLIGHT
BEGIN:STANDARD
TZOFFSETFROM:-0400
TZOFFSETTO:-0500
TZNAME:EST
DTSTART:20251102T060000
END:STANDARD
END:VTIMEZONE
BEGIN:VEVENT
DTSTART;TZID=America/New_York:20241026T100000
DTEND;TZID=America/New_York:20241026T140000
DTSTAMP:20260423T022159
CREATED:20241002T050325Z
LAST-MODIFIED:20241002T050452Z
UID:20185-1729936800-1729951200@poodleandpoochrescue.org
SUMMARY:Mealey's Sport Subaru South Adoption Event
DESCRIPTION:Save the date for our next event! This October\, Poodle and Pooch Rescue is teaming up with Mealey’s Sport Subaru South to celebrate #SubaruLovesPets month.Join us Saturday\, Oct. 26 at Mealey’s Sport Subaru South\, 10 a.m. – 2 p.m.\, to meet some adoptable (or soon to be adoptable) pooches and enjoy some fun pet-friendly activities and offerings. We’ll let you know which dogs you can expect to see as the event gets closer. You’ll also have the opportunity to chat with volunteers who can answer any questions you may have about adoption or fostering.Adoptions do not take place onsite\, but this event is a great place to mingle with adoptable dogs and friendly volunteers to learn more about the process. If you meet a dog you’d like to adopt\, volunteers will guide you through the application process and you’ll receive follow-up communication via email.We can’t wait to see you there!
URL:https://poodleandpoochrescue.org/event/don-mealey-sport-subaru-south-adoption-event-2/
LOCATION:Mealey’s Sport Subaru South\, 9951 S Orange Blossom Trail\, Orlando\, 32837\, United States
ATTACH;FMTTYPE=image/jpeg:https://poodleandpoochrescue.org/wp-content/uploads/2024/10/Save-the-Date-1.jpg
ORGANIZER;CN="Sport Subaru South":MAILTO:adeviva@sportautogroup.com
END:VEVENT
BEGIN:VEVENT
DTSTART;TZID=America/New_York:20240127T110000
DTEND;TZID=America/New_York:20240127T140000
DTSTAMP:20260423T022159
CREATED:20240106T214124Z
LAST-MODIFIED:20240106T214124Z
UID:17804-1706353200-1706364000@poodleandpoochrescue.org
SUMMARY:Wine & Woofs in DeLand!
DESCRIPTION:You’re invited to our next event\, Wine & Woofs\, brought to you by City Wine & Cigar and Woof Gang Bakery & Grooming DeLand. \n  \nSip back and relax with volunteers and adoptable dogs from Poodle and Pooch Rescue\, then treat your pup to tasty treats from Woof Gang Bakery & Grooming DeLand\, available for purchase. Complimentary pup cups will be available for all of our canine visitors! \n  \nMany thanks to City Wine & Cigar for sponsoring vetting fees for two of our recent incoming dogs\, and to Woof Gang Bakery & Grooming DeLand who will be offering a discount on the first groom for any dogs adopted as a result of this event. We are paws-itively grateful for the support. \n  \nAs a reminder\, our adoptions do not take place onsite\, but this is a great place to mingle with some of our dogs and volunteers to learn more about the process. If you meet a dog you’d like to adopt\, we’ll ask that you submit an application\, and a volunteer will be in touch via email. \n  \nWe can’t wait to see you there!
URL:https://poodleandpoochrescue.org/event/wine-woofs-in-deland/
LOCATION:City Wine & Cigar\, 111 Victoria Commons Blvd\, Suite 113\, DeLand\, FL\, 32720\, United States
ATTACH;FMTTYPE=image/jpeg:https://poodleandpoochrescue.org/wp-content/uploads/2024/01/1-2.jpg
END:VEVENT
BEGIN:VEVENT
DTSTART;TZID=America/New_York:20231021T120000
DTEND;TZID=America/New_York:20231021T160000
DTSTAMP:20260423T022159
CREATED:20230920T152815Z
LAST-MODIFIED:20230926T181401Z
UID:16927-1697889600-1697904000@poodleandpoochrescue.org
SUMMARY:Don Mealey Sport Subaru South Adoption Event
DESCRIPTION:Save the date for our next adoption event!\n\n\nJoin us on Saturday\, Oct. 21 at Don Mealey Sport Subaru South\, noon until 4pm\, to meet a few of our adoptable (or soon to be adoptable) pooches.\n\n\n\nWe’ll also have volunteers on-hand to answer any questions you may have about adopting or fostering.\n\n\n\nOur adoptions do not take place onsite\, but this event is a great place to mingle with some of our dogs and volunteers to learn more about the process. If you meet a dog you’d like to adopt\, we’ll ask that you submit an application\, and a volunteer will be in touch via email.
URL:https://poodleandpoochrescue.org/event/don-mealey-sport-subaru-south-adoption-event/
LOCATION:Don Mealey Sport Subaru South\, 9951 S Orange Blossom Trail\, Orlando\, FL\, 32837\, United States
ATTACH;FMTTYPE=image/png:https://poodleandpoochrescue.org/wp-content/uploads/2023/09/1-1.png
ORGANIZER;CN="Sport Subaru South":MAILTO:adeviva@sportautogroup.com
END:VEVENT
BEGIN:VEVENT
DTSTART;TZID=America/New_York:20231021T090000
DTEND;TZID=America/New_York:20231021T120000
DTSTAMP:20260423T022159
CREATED:20230926T182550Z
LAST-MODIFIED:20230926T182550Z
UID:16969-1697878800-1697889600@poodleandpoochrescue.org
SUMMARY:Franklin's Friends HOWL-O-WEEN
DESCRIPTION:Join Poodle and Pooch Rescue at Franklin’s Friends 10th annual HOWL-O-WEEN Dog Walk-a-Thon and Canine Costume Contest!\n\nLast year\, HOWL-O-WEEN raised over $35\,000 and this year there is TONS to enjoy for both you and your pup!\n\n Doggie walk\n Canine costume contest\n Adoptable pups\n Pet-friendly vendors\n Music and more\n With all proceeds benefiting Franklin’s Friends\n Denise Ryan from 98.9 WMMO’s Morning Show will also return to emcee.\nMore Details:\n– $20 in advance; $25 at the door. Children under 6 are free\, Registration is per person\, not per dog and we’d love to have you join us even if you don’t have a dog.  Registration is required for all costume contest competitors\, spectators\, and walkers.\n– Prizes for top three individual fundraisers\, team fundraisers\, and doggie costumes!\n\n\nRegister now at tinyurl.com/HOWL2023
URL:https://poodleandpoochrescue.org/event/franklins-friends-howl-o-ween/
LOCATION:Cranes Roost Park\, 274 Cranes Roost Boulevard\, Altamonte Springs\, FL\, 32701
ATTACH;FMTTYPE=image/jpeg:https://poodleandpoochrescue.org/wp-content/uploads/2023/09/1.jpg
END:VEVENT
BEGIN:VEVENT
DTSTART;TZID=America/New_York:20230930T180000
DTEND;TZID=America/New_York:20230930T200000
DTSTAMP:20260423T022159
CREATED:20230915T132539Z
LAST-MODIFIED:20230915T132539Z
UID:16910-1696096800-1696104000@poodleandpoochrescue.org
SUMMARY:Balance Orlando - Puppies & Pajamas!
DESCRIPTION:Join us for Puppies & Pajamas!  Bring your furry friends for an evening of excitement\, prizes\, and more! \nBalance Orlando is hosting this event on September 30th from 6pm-8pm.  Join the “cutest pajamas” contest for dogs\, and you may have a chance to win a $75 gift certificate! \nThis event is an opportunity for Poodle and Pooch Rescue to raise money and gather supplies for our foster animals.  It is a great way to support local and help dogs in need! \nSee you there!
URL:https://poodleandpoochrescue.org/event/balance-orlando-puppies-pajamas/
LOCATION:Balance Orlando\, 1220 Edgewater Dive\, Orlando\, 32804
ATTACH;FMTTYPE=image/png:https://poodleandpoochrescue.org/wp-content/uploads/2023/09/1.png
END:VEVENT
BEGIN:VEVENT
DTSTART;TZID=America/New_York:20221203T140000
DTEND;TZID=America/New_York:20221203T170000
DTSTAMP:20260423T022159
CREATED:20221027T183123Z
LAST-MODIFIED:20221027T183123Z
UID:13618-1670076000-1670086800@poodleandpoochrescue.org
SUMMARY:Pictures with Santa Paws at Sanlando Springs Animal Hospital
DESCRIPTION:Join Sanlando Springs Animal Hospital for Pictures with Santa Paws! \nFrom 2pm-5pm on December 3\, pet photos with Santa are just $10! \nJust for coming your pet pal can get a free nail trim and you can join exciting raffles and grab free ice cream! \nAll proceeds will benefit Poodle and Pooch Rescue and we hope you see you there!
URL:https://poodleandpoochrescue.org/event/pictures_with_santa_paws/
LOCATION:Sanlando Springs Animal Hospital\, 2500 W State Rd 434\, Longwood\, FL 32779\, 2500 W State Rd 434\, Longwood\, FL\, 32779\, United States
ATTACH;FMTTYPE=image/jpeg:https://poodleandpoochrescue.org/wp-content/uploads/2022/10/0.jpg
END:VEVENT
BEGIN:VEVENT
DTSTART;TZID=America/New_York:20221105T090000
DTEND;TZID=America/New_York:20221105T120000
DTSTAMP:20260423T022159
CREATED:20220914T182142Z
LAST-MODIFIED:20221005T135747Z
UID:13122-1667638800-1667649600@poodleandpoochrescue.org
SUMMARY:Franklin's Friends HOWL-O-WEEN Dog Walk-a-Thon and Canine Costume Contest
DESCRIPTION:Are you ready for a frightfully good time? Poodle and Pooch Rescue is proud to be a part of the Franklin’s Friends 9th annual HOWL-O-WEEN  Dog Walk-a-Thon and Canine Costume Contest on October 22 from 9 am to noon at Cranes Roost Park at Uptown Altamonte.\n\nThere will be a dog walk\, canine costume contest\, adoptable dogs\, pet-friendly vendors\, music and much more! All proceeds will benefit Franklin’s Friends.\n\nIf you wish to register to walk before the event\, please visit https://franklinsfriends.dojiggy.io/c/howloween22registration
URL:https://poodleandpoochrescue.org/event/franklins-friends-howl-o-ween-dog-walk-a-thon-and-canine-costume-contest/
LOCATION:Cranes Roost Park\, 274 Cranes Roost Boulevard\, Altamonte Springs\, FL\, 32701
ATTACH;FMTTYPE=image/jpeg:https://poodleandpoochrescue.org/wp-content/uploads/2022/09/Franklins-friends-howl-o-ween-1.jpg
END:VEVENT
BEGIN:VEVENT
DTSTART;TZID=America/New_York:20221009T120000
DTEND;TZID=America/New_York:20221009T160000
DTSTAMP:20260423T022159
CREATED:20220914T174506Z
LAST-MODIFIED:20220914T175223Z
UID:13118-1665316800-1665331200@poodleandpoochrescue.org
SUMMARY:Subaru Adoption Event
DESCRIPTION:Join us October 9th and see our adorable adoptable dogs at Don Mealey Sport Subaru South\,\n9951 South Orange Blossom Trail\, Orlando from 12-4!  Learn about Poodle and Pooch Rescue\, speak with our volunteers and maybe meet a new family member! \n  \nSubaru of America has built a strong alliance with the ASPCA® that brings local shelters and Subaru\nretailers together to promote pet adoption nationwide. To date\, over 400 Subaru retailers have conducted\nevents and activities at their retail stores with local shelters\, resulting in thousands of adoptions and\nmillions of dollars raised for local organizations!
URL:https://poodleandpoochrescue.org/event/subaru-adoption-event-2/
LOCATION:Sport Subaru South\, 9951 South Orange Blossom Trail\, Orlando\, FL\, 32837\, United States
ATTACH;FMTTYPE=image/jpeg:https://poodleandpoochrescue.org/wp-content/uploads/2022/09/unnamed.jpg
END:VEVENT
BEGIN:VEVENT
DTSTART;TZID=America/New_York:20220917T130000
DTEND;TZID=America/New_York:20220917T150000
DTSTAMP:20260423T022159
CREATED:20220823T163727Z
LAST-MODIFIED:20220823T163727Z
UID:12929-1663419600-1663426800@poodleandpoochrescue.org
SUMMARY:Rescue Awareness Event
DESCRIPTION:Are you thinking about adopting a dog?  Are you curious what it takes to become a foster family for a dog in need?  Are you interested in finding out how you can help support Poodle and Pooch Rescue by volunteering your time or talent?\n  \nThen come on out and meet some of our volunteers!  Learn all about how we save dogs in need and how you can help. We can’t wait to meet you!
URL:https://poodleandpoochrescue.org/event/rescue-awareness-event-2/
LOCATION:Pet Supermarket\, 1675 N Avalon Park Blvd\, Orlando\, FL\, 32828\, United States
ATTACH;FMTTYPE=image/jpeg:https://poodleandpoochrescue.org/wp-content/uploads/2022/08/Adoption-Awareness.jpg
END:VEVENT
BEGIN:VEVENT
DTSTART;TZID=America/New_York:20220514T110000
DTEND;TZID=America/New_York:20220514T130000
DTSTAMP:20260423T022159
CREATED:20220505T152435Z
LAST-MODIFIED:20220507T191337Z
UID:11557-1652526000-1652533200@poodleandpoochrescue.org
SUMMARY:Rescue Awareness Event
DESCRIPTION:Are you thinking about adopting a dog?  Are you curious what it takes to become a foster family for a dog in need?  Are you interested in finding out how you can help support Poodle and Pooch Rescue by volunteering your time or talent?\n  \nThen come on out and meet some of our volunteers!  Learn all about how we save dogs in need and how you can help. Local artist\, Jeanette Lapointe will also be on hand and will give a 20% discount to all those that order portraits during the event. A portion of the proceeds will go back to Poodle and Pooch Rescue! We can’t wait to meet you!
URL:https://poodleandpoochrescue.org/event/rescue-awareness-event/
LOCATION:Pet Supermarket\, 1675 N Avalon Park Blvd\, Orlando\, FL\, 32828\, United States
ATTACH;FMTTYPE=image/jpeg:https://poodleandpoochrescue.org/wp-content/uploads/2022/05/Rescue-Awareness-Event-POSTER.jpg
END:VEVENT
BEGIN:VEVENT
DTSTART;TZID=America/New_York:20220226T110000
DTEND;TZID=America/New_York:20220226T150000
DTSTAMP:20260423T022159
CREATED:20220217T061752Z
LAST-MODIFIED:20220217T062630Z
UID:10879-1645873200-1645887600@poodleandpoochrescue.org
SUMMARY:DeLand Dog Parade
DESCRIPTION:Come and see PPR out at the DeLand Dog Parade – we’ll have a booth so this is your chance to stop by\, meet some of our pups and talk to our team!\n\nFor over twenty years\, the Krewe of Amalee has hosted this community gift\, the annual Mardi Gras DeLand dog parade. Each year\, the theme changes and delights the thousands of dog lovers with the costumed creativity marching down Mainstreet.\n\nThe theme for our 25th annual Dog Parade is Mardi Gras! Dress your pup\, float or person in purple\, gold and green. The Mardi Gras dogs will be marching through DeLand on Saturday\, February 26\, 2022 at 11 AM.\n\nLet the good times roll.
URL:https://poodleandpoochrescue.org/event/deland-dog-parade/
LOCATION:100 North Woodland BoulevardDeLand\, FL\, 32720\, 100 North Woodland Boulevard\, Deland\, FL\, 32720\, United States
ATTACH;FMTTYPE=image/jpeg:https://poodleandpoochrescue.org/wp-content/uploads/2022/02/dog-parade.jpeg
END:VEVENT
BEGIN:VEVENT
DTSTART;TZID=America/New_York:20211016T100000
DTEND;TZID=America/New_York:20211016T140000
DTSTAMP:20260423T022159
CREATED:20211010T211355Z
LAST-MODIFIED:20211010T211355Z
UID:9451-1634378400-1634392800@poodleandpoochrescue.org
SUMMARY:Subaru Adoption Event
DESCRIPTION:
URL:https://poodleandpoochrescue.org/event/subaru-adoption-event/
LOCATION:Sport Subaru South\, 9951 South Orange Blossom Trail\, Orlando\, FL\, 32837\, United States
ATTACH;FMTTYPE=image/jpeg:https://poodleandpoochrescue.org/wp-content/uploads/2019/11/logo-ppr.jpg
END:VEVENT
BEGIN:VEVENT
DTSTART;TZID=America/New_York:20201213T120000
DTEND;TZID=America/New_York:20201213T170000
DTSTAMP:20260423T022159
CREATED:20201205T060233Z
LAST-MODIFIED:20201205T122646Z
UID:5939-1607860800-1607878800@poodleandpoochrescue.org
SUMMARY:Holiday Pet Photo Event
DESCRIPTION:Come join us at a holiday pet photo event sponsored by our wonderful partner in The Villages\, Woof Gang Bakery & Grooming. For a donation of $10 to PPR\, get your dog’s picture in a beautiful holiday setting. Pictures will be edited and sent to you via email or text by 5pm on Monday (12/14). We look forward to seeing you and we appreciate your support in helping us save more dogs in need! \nDecember 13\, 2020\, 12-5 pm\nWoof Gang Bakery & Grooming The Villages\nBrownwood Square\n3682 Meggison Road\nThe Villages\, FL
URL:https://poodleandpoochrescue.org/event/holiday-pet-photo-event/
ATTACH;FMTTYPE=image/png:https://poodleandpoochrescue.org/wp-content/uploads/2020/12/TV-fundraiser-2.png
END:VEVENT
BEGIN:VEVENT
DTSTART;TZID=America/New_York:20201025T130000
DTEND;TZID=America/New_York:20201025T150000
DTSTAMP:20260423T022159
CREATED:20200813T022015Z
LAST-MODIFIED:20201022T234840Z
UID:4915-1603630800-1603638000@poodleandpoochrescue.org
SUMMARY:ASPCA & Subaru Loves Pets Virtual Adoption Event on FB Live
DESCRIPTION:Join us as we partner with Sport Subaru South & the ASPCA for our first ever VIRTUAL Pet Adoption. You can help us find forever homes for these pups! \nVisit https://www.sportsubarusouth.com/subaru-loves-pets.htm for more information and links to see all of the rescue dogs up for adoption\, as well as the adoption application . If you’re interested in adopting a pet\, we encourage you to fill out an adoption application before you come to save time! \nDon Mealey Sport Subaru stays true to the Subaru Love Promise by partnering with the wide variety of nonprofits and charities just like Poodle and Pooch Rescue of Florida. In addition to these partnerships\, Don Mealey Sport Subaru and Poodle and Pooch Rescue join hands in the “Subaru Loves Pets” campaign. Subaru of America has built a strong alliance with the ASPCA® that brings local shelters and Subaru retailers together to promote pet adoption nationwide. To date\, over 400 Subaru retailers have conducted events and activities with local shelters\, resulting in thousands of adoptions and millions of dollars raised for local organizations!
URL:https://poodleandpoochrescue.org/event/aspca-subaru-loves-pets-adoption-event-at-sport-subaru-south/
LOCATION:Facebook Live on Sport Subaru South & Poodle and Pooch Rescue Pages\, Orlando\, FL\, United States
ATTACH;FMTTYPE=image/png:https://poodleandpoochrescue.org/wp-content/uploads/2020/08/event-pic-final.png
ORGANIZER;CN="Poodle and Pooch Rescue":MAILTO:events@poodleandpoochrescue.org
END:VEVENT
BEGIN:VEVENT
DTSTART;TZID=America/New_York:20200222T080000
DTEND;TZID=America/New_York:20200222T170000
DTSTAMP:20260423T022159
CREATED:20200116T190354Z
LAST-MODIFIED:20200116T190354Z
UID:2579-1582358400-1582390800@poodleandpoochrescue.org
SUMMARY:The Krewe of Amalee DeLand Mardi Gras Dog Parade & Festival
DESCRIPTION:
URL:https://poodleandpoochrescue.org/event/the-krewe-of-amalee-deland-mardi-gras-dog-parade-festival/
ATTACH;FMTTYPE=image/jpeg:https://poodleandpoochrescue.org/wp-content/uploads/2019/11/logo-ppr.jpg
END:VEVENT
BEGIN:VEVENT
DTSTART;TZID=America/New_York:20200222T080000
DTEND;TZID=America/New_York:20200222T160000
DTSTAMP:20260423T022159
CREATED:20200123T200150Z
LAST-MODIFIED:20200123T200150Z
UID:2607-1582358400-1582387200@poodleandpoochrescue.org
SUMMARY:DeLand Mardis Gras on Main Street Dog Parade
DESCRIPTION:February 22nd  8:00am-4:00pm\nDeLand Mardis Gras on Main Street Dog Parade – DeLand\, FL\n8:00am Dog Costume Contest Registration\n9:15am Dog Costume Contest Judging\n11:00am Dog Parade – Festival begins when parade ends
URL:https://poodleandpoochrescue.org/event/deland-mardis-gras-on-main-street-dog-parade/
LOCATION:100 North Woodland BoulevardDeLand\, FL\, 32720\, 100 North Woodland Boulevard\, Deland\, FL\, 32720\, United States
ATTACH;FMTTYPE=image/jpeg:https://poodleandpoochrescue.org/wp-content/uploads/2019/11/logo-ppr.jpg
END:VEVENT
BEGIN:VEVENT
DTSTART;TZID=America/New_York:20200208T180000
DTEND;TZID=America/New_York:20200208T210000
DTSTAMP:20260423T022159
CREATED:20200123T195918Z
LAST-MODIFIED:20200123T195918Z
UID:2604-1581184800-1581195600@poodleandpoochrescue.org
SUMMARY:Pints for Paws & Pet Costume Contest
DESCRIPTION:Pints for Paws & Pet Costume Contest hosted by Franklin’s Friends\, Castle Church Brewing 6820 Hoffner Orlando
URL:https://poodleandpoochrescue.org/event/pints-for-paws-pet-costume-contest/
LOCATION:Castle Church Brewing\, 6820 Hoffner\, Orlando\, Florida\, 32822\, United States
ATTACH;FMTTYPE=image/jpeg:https://poodleandpoochrescue.org/wp-content/uploads/2019/11/logo-ppr.jpg
END:VEVENT
END:VCALENDAR